BEGIN:VCALENDAR
VERSION:2.0
PRODID:-//eventon.com NONSGML v1.0//EN
BEGIN:VEVENT
UID:69eae3f9d68d9
DTSTAMP:20260424T053105
DTSTART:20230129T060000Z
DTEND:20230130T020000Z
TZID:Pacific/Midway
LOCATION:
SUMMARY:Buffet A Volonté+ Club « 80s à nos jours » by Dj Raph
DESCRIPTION: Soirée Clubbing pilotée par ★ DJ Raph ★ ► Buffet à volonté + Soirée : 30 € (Civet de sanglier\,  bouchées à la reine\,  poisson curry coco\,  spaetzle\,  riz légumes)+Desserts à partir de 19:30 ► Tarifs : 10€/pers. avec une conso ► SELECTION MUSICALE GENERALISTE pour une soirée à l&rsquo;ambiance[..]
URL:https://www.collis-martis.fr/events/buffet-a-volonte-club-80s-a-nos-jours-by-dj-raph/
END:VEVENT
END:VCALENDAR