BEGIN:VCALENDAR
VERSION:2.0
PRODID:-//eventon.com NONSGML v1.0//EN
BEGIN:VEVENT
UID:69eae4e27f7fd
DTSTAMP:20260424T053458
DTSTART:20230324T060000Z
DTEND:20230323T110000Z
TZID:Pacific/Midway
LOCATION:
SUMMARY:Karaoké party by Dj Raph
DESCRIPTION:  La soirée de toutes les voix Le Collis Martis et Dj Raph vous accueille pour une soirée spéciale karaoké. Que vous soyez chanteur ou non\,  venez montrer votre talent dans une ambiance conviviale ! Détails :  Tartes flambées au menu Entré libre  à partir de 19h00
URL:https://www.collis-martis.fr/events/karaoke-party-by-dj-raph/
END:VEVENT
END:VCALENDAR