BEGIN:VCALENDAR
VERSION:2.0
PRODID:-//eventon.com NONSGML v1.0//EN
BEGIN:VEVENT
UID:69eae42213f8f
DTSTAMP:20260424T053146
DTSTART:20230603T080000Z
DTEND:20230602T140000Z
TZID:Pacific/Midway
LOCATION:
SUMMARY:SUMMER NIGHT MIX by DJ RAPH [BBQ Party]
DESCRIPTION:  Summer night mix by Dj Raph Avis à tous les fêtards !  Le Collis Martis et Dj Raph vous attendent nombreux au Collis Martis pour une soirée sur le thème des meilleurs hits de l&rsquo;été  ! Un moment de convivialité autour d&rsquo;un bon verre\,  dans une ambiance festive au son des[..]
URL:https://www.collis-martis.fr/events/summer-night-mix-by-dj-raph-bbq-party/
END:VEVENT
END:VCALENDAR