BEGIN:VCALENDAR
VERSION:2.0
PRODID:-//eventon.com NONSGML v1.0//EN
BEGIN:VEVENT
UID:69eae4221aef3
DTSTAMP:20260424T053146
DTSTART:20240324T080000Z
DTEND:20240324T140000Z
TZID:Pacific/Midway
LOCATION:
SUMMARY:La Red Party par Dj Raph
DESCRIPTION: La Red Party Le tout mixé par Dj Raph !!!!! Dress Code : viens habillé en rouge Les meilleurs sons des années 80 à nos jours à partir de 21:00\,  jusqu&rsquo;à 03:00 entrée 10€ par pers.
URL:https://www.collis-martis.fr/events/la-red-party-par-dj-raph/
END:VEVENT
END:VCALENDAR